BEGIN:VCALENDAR
VERSION:2.0
PRODID:-//eventon.com NONSGML v1.0//EN
CALSCALE:GREGORIAN
METHOD:PUBLISH
BEGIN:VEVENT
UID:69eb837ae2c83
DTSTAMP:20260424T145138Z
DTSTART:20230325T130000Z
DTEND:20230325T143000Z
LOCATION:
SUMMARY:Barnvisning
DESCRIPTION:Lördag 25 mars kl.14.00 Barnvisning men slottets egen målarb
 ok i handen. Pris 60kr/person. Anmälan till info@salsta-slott.se\nhttps://
 astraken.se/events/barnvisning/
URL:https://astraken.se/events/barnvisning/
END:VEVENT
END:VCALENDAR