BEGIN:VCALENDAR
VERSION:2.0
PRODID:-//eventon.com NONSGML v1.0//EN
CALSCALE:GREGORIAN
METHOD:PUBLISH
BEGIN:VEVENT
UID:69eb85d1a19fa
DTSTAMP:20260424T150137Z
DTSTART:20230325T113000Z
DTEND:20230325T130000Z
LOCATION:
SUMMARY:Guidad rundvandring
DESCRIPTION:Lördag 25 mars kl.12.30 Guidad rundvandring i ett vintrigt sl
 ott\,  med ytterkläder på. Pris 120kr/person. Anmälan till info@salsta-s
 lott.se\nhttps://astraken.se/events/guidad-rundvandring-2/
URL:https://astraken.se/events/guidad-rundvandring-2/
END:VEVENT
END:VCALENDAR