BEGIN:VCALENDAR
VERSION:2.0
PRODID:-//eventon.com NONSGML v1.0//EN
CALSCALE:GREGORIAN
METHOD:PUBLISH
BEGIN:VEVENT
UID:69eb88801c104
DTSTAMP:20260424T151304Z
DTSTART:20230304
DTEND:20230305
LOCATION:
SUMMARY:Grundkurser i järnsmide
DESCRIPTION:Kursavgift: 2500 inklusive förbrukningsmaterial samt fika och 
 lunch båda dagarna. Grundkurserna är till för alla som har fyllt 15 år.
  Anmälan till salsta.hul@gmail.com &nbsp;\nhttps://astraken.se/events/grun
 dkurser-i-jarnsmide/
URL:https://astraken.se/events/grundkurser-i-jarnsmide/
END:VEVENT
END:VCALENDAR