BEGIN:VCALENDAR
VERSION:2.0
PRODID:-//eventon.com NONSGML v1.0//EN
CALSCALE:GREGORIAN
METHOD:PUBLISH
BEGIN:VEVENT
UID:69eba25506f73
DTSTAMP:20260424T170317Z
DTSTART:20230422
DTEND:20230423
LOCATION:
SUMMARY:Mats Bergströms salong med Amanda Ginsburg
DESCRIPTION:Bokning och mer info: https://bookingl.visitnorth.se/sv/boka/?s
 lug=stiftelsen-sterbybruks-herrgrd &nbsp;\nhttps://astraken.se/events/mats-
 bergstroms-salong-med-amanda-ginsburg/
URL:https://astraken.se/events/mats-bergstroms-salong-med-amanda-ginsburg/
END:VEVENT
END:VCALENDAR