BEGIN:VCALENDAR
VERSION:2.0
PRODID:-//eventon.com NONSGML v1.0//EN
CALSCALE:GREGORIAN
METHOD:PUBLISH
BEGIN:VEVENT
UID:69eb52f6747a7
DTSTAMP:20260424T112438Z
DTSTART:20230311
DTEND:20230312
LOCATION:
SUMMARY:Filip Jers & Emil Ernebro
DESCRIPTION:Bokning och mer info: https://bookingl.visitnorth.se/sv/boka/?s
 lug=stiftelsen-sterbybruks-herrgrd\nhttps://astraken.se/events/filip-jers-e
 mil-ernebro/
URL:https://astraken.se/events/filip-jers-emil-ernebro/
END:VEVENT
END:VCALENDAR