BEGIN:VCALENDAR
VERSION:2.0
PRODID:-//eventon.com NONSGML v1.0//EN
CALSCALE:GREGORIAN
METHOD:PUBLISH
BEGIN:VEVENT
UID:69eb9ce111d0a
DTSTAMP:20260424T164001Z
DTSTART:20230422
DTEND:20230423
LOCATION:
SUMMARY:HistorieÃ¤tarna pÃ¥ Salsta
DESCRIPTION:HistorieÃ¤tarna pÃ¥ Salsta slott.Â 1600-talsavsnittetÂ av histo
 rieÃ¤tarna spelades in pÃ¥ Salsta slott. Nu har du ocksÃ¥ mÃ¶jlighet att gÃ
 ¥ i Lottas &amp; Eriks fotspÃ¥r och lÃ¥ta smaklÃ¶karna resa 400 Ã¥r tillbak
 a i tiden. Vid sidan av en annorlunda matupplevelse blir det ocksÃ¥ uppvisn
 ing av den tidens danser i tidsenliga drÃ¤kter. Vill du[..]\nhttps://astrak
 en.se/events/historieatarna-pa-salsta/
URL:https://astraken.se/events/historieatarna-pa-salsta/
END:VEVENT
END:VCALENDAR