BEGIN:VCALENDAR
VERSION:2.0
PRODID:-//eventon.com NONSGML v1.0//EN
CALSCALE:GREGORIAN
METHOD:PUBLISH
BEGIN:VEVENT
UID:69eb9cc6a777e
DTSTAMP:20260424T163934Z
DTSTART:20230407T160000Z
DTEND:20230407T190000Z
LOCATION:
SUMMARY:Middag med mordgåta
DESCRIPTION:Middag med mordgåta Anmälan till info@salsta-slott.se\nhttps
 ://astraken.se/events/middag-med-mordgata/
URL:https://astraken.se/events/middag-med-mordgata/
END:VEVENT
END:VCALENDAR