BEGIN:VCALENDAR
VERSION:2.0
PRODID:-//eventon.com NONSGML v1.0//EN
CALSCALE:GREGORIAN
METHOD:PUBLISH
BEGIN:VEVENT
UID:69eb88a1c6158
DTSTAMP:20260424T151337Z
DTSTART:20230409T120000Z
DTEND:20230409T130000Z
LOCATION:
SUMMARY:Musik på Salsta
DESCRIPTION:Musik på Salsta slott Riksspelman Leif Alpsjö. Boka biljett 
 på info@salsta-slott.se Efter konserten\,  kl.15 håller Alpsjö visstuga.
  Ingen föranmälan. Mer information här.\nhttps://astraken.se/events/mus
 ik-pa-salsta-2/
URL:https://astraken.se/events/musik-pa-salsta-2/
END:VEVENT
END:VCALENDAR