BEGIN:VCALENDAR
VERSION:2.0
PRODID:-//eventon.com NONSGML v1.0//EN
CALSCALE:GREGORIAN
METHOD:PUBLISH
BEGIN:VEVENT
UID:69eb9cc51bd1c
DTSTAMP:20260424T163933Z
DTSTART:20230407T090000Z
DTEND:20230407T140000Z
LOCATION:
SUMMARY:Konst på väg
DESCRIPTION:Konst på väg kl.11-16 Sex parallella utställningar med ått
 a olika konstnärer. Ingen föranmälan behövs. Pris 80kr/person. Barn upp
  till 15 år gratis. Mer om utställningarna hittar du här.\nhttps://astr
 aken.se/events/konst-pa-vag/
URL:https://astraken.se/events/konst-pa-vag/
END:VEVENT
END:VCALENDAR