BEGIN:VCALENDAR
VERSION:2.0
PRODID:-//eventon.com NONSGML v1.0//EN
CALSCALE:GREGORIAN
METHOD:PUBLISH
BEGIN:VEVENT
UID:69eb88403d630
DTSTAMP:20260424T151200Z
DTSTART:20230225T110000Z
DTEND:20230225T130000Z
LOCATION:
SUMMARY:Lunch med mordgåta
DESCRIPTION:Lunch med mordgåta Anmälan till info@salsta-slott.se\nhttps:
 //astraken.se/events/lunch-med-mordgata-4/
URL:https://astraken.se/events/lunch-med-mordgata-4/
END:VEVENT
END:VCALENDAR