BEGIN:VCALENDAR
VERSION:2.0
PRODID:-//eventon.com NONSGML v1.0//EN
CALSCALE:GREGORIAN
METHOD:PUBLISH
BEGIN:VEVENT
UID:69eb9cf30aea4
DTSTAMP:20260424T164019Z
DTSTART:20230225T093000Z
DTEND:20230225T225000Z
LOCATION:
SUMMARY:Sportlovskul och vintervisning av slottet
DESCRIPTION:Sportlovskul och vintervisning av slottet Kl. 10.30 Barnvisning
  med jakt på slottets konst. Pris 60kr/person. Anmälan till info@salsta-s
 lott.se Kl. 11.00 Vintervisning. Guidad rundvandring i ett vintrigt slott\,
   med ytterkläder på. Pris 120kr/person. Anmälan till info@salsta-slott.
 se\nhttps://astraken.se/events/sportlovskul-och-vintervisning-av-slottet/
URL:https://astraken.se/events/sportlovskul-och-vintervisning-av-slottet/
END:VEVENT
END:VCALENDAR