BEGIN:VCALENDAR
VERSION:2.0
PRODID:-//eventon.com NONSGML v1.0//EN
CALSCALE:GREGORIAN
METHOD:PUBLISH
BEGIN:VEVENT
UID:69eb9d6439387
DTSTAMP:20260424T164212Z
DTSTART:20230211T113000Z
DTEND:20230211T133000Z
LOCATION:
SUMMARY:Lunch med mordgåta
DESCRIPTION:Lunch med mordgåta Anmälan till info@salsta-slott.se\nhttps:
 //astraken.se/events/lunch-med-mordgata-3/
URL:https://astraken.se/events/lunch-med-mordgata-3/
END:VEVENT
END:VCALENDAR