BEGIN:VCALENDAR
VERSION:2.0
PRODID:-//eventon.com NONSGML v1.0//EN
CALSCALE:GREGORIAN
METHOD:PUBLISH
BEGIN:VEVENT
UID:69eb893162201
DTSTAMP:20260424T151601Z
DTSTART:20221224T213000Z
DTEND:20221224T225000Z
LOCATION:
SUMMARY:DEC JULAFTON - SÅNG I JULNATTEN
DESCRIPTION:Fackeltåg startar 22.30 vid Bagarstugan.\nhttps://astraken.se/
 events/dec-julafton-sang-i-julnatten/
URL:https://astraken.se/events/dec-julafton-sang-i-julnatten/
END:VEVENT
END:VCALENDAR