BEGIN:VCALENDAR
VERSION:2.0
PRODID:-//eventon.com NONSGML v1.0//EN
CALSCALE:GREGORIAN
METHOD:PUBLISH
BEGIN:VEVENT
UID:69eb868f0fbba
DTSTAMP:20260424T150447Z
DTSTART:20221224T100000Z
DTEND:20221224T110000Z
LOCATION:
SUMMARY:JULAFTON - SAMLING VID KRUBBAN
DESCRIPTION:JULAFTON - SAMLING VID KRUBBAN\nhttps://astraken.se/events/jula
 fton-samling-vid-krubban/
URL:https://astraken.se/events/julafton-samling-vid-krubban/
END:VEVENT
END:VCALENDAR