BEGIN:VCALENDAR
VERSION:2.0
PRODID:-//eventon.com NONSGML v1.0//EN
CALSCALE:GREGORIAN
METHOD:PUBLISH
BEGIN:VEVENT
UID:69ebb0f73b972
DTSTAMP:20260424T180543Z
DTSTART:20221218T170000Z
DTEND:20221218T180000Z
LOCATION:
SUMMARY:Stilla mässa
DESCRIPTION:Stilla mässa\nhttps://astraken.se/events/stilla-massa/
URL:https://astraken.se/events/stilla-massa/
END:VEVENT
END:VCALENDAR