BEGIN:VCALENDAR
VERSION:2.0
PRODID:-//eventon.com NONSGML v1.0//EN
CALSCALE:GREGORIAN
METHOD:PUBLISH
BEGIN:VEVENT
UID:69ebb5b21c9c8
DTSTAMP:20260424T182554Z
DTSTART:20230114T130000Z
DTEND:20230114T150000Z
LOCATION:
SUMMARY:Julgransplundring
DESCRIPTION:Julgransplundring pÃ¥ Salsta slott! Kom och dansa ut julen pÃ¥ 
 Salsta slott den 14 januari. Kl 14 slÃ¥r vi upp portarna till Kungssalen fÃ
 ¶r dans runt julgranen och traditionella jullekar. DÃ¤refter kakbuffÃ© i sl
 ottskafÃ©et. Cirka 15.30 kan alla barn plundra julgranen pÃ¥ borggÃ¥rden fr
 Ã¥n julens sista godis. Pris fÃ¶r barn[..]\nhttps://astraken.se/events/julg
 ransplundring/
URL:https://astraken.se/events/julgransplundring/
END:VEVENT
END:VCALENDAR