BEGIN:VCALENDAR
VERSION:2.0
PRODID:-//eventon.com NONSGML v1.0//EN
CALSCALE:GREGORIAN
METHOD:PUBLISH
BEGIN:VEVENT
UID:69eb841a0af59
DTSTAMP:20260424T145418Z
DTSTART:20221203T100000Z
DTEND:20221203T140000Z
LOCATION:
SUMMARY:Storvreta julmarknad
DESCRIPTION:Välkommen till vår traditionella julmarknad! Här kan du njut
 a av en mugg varm glögg och en pepparkaka medan du handlar närproducerade
  delikatesser och hantverk hos de lokala utställarna. Kanske passar du på
  att köpa en närproducerad\,  ekologisk och nyhuggen gran? I caféet inom
 hus säljer vi hembakat fika och här spelar[..]\nhttps://astraken.se/event
 s/storvreta-julmarknad/
URL:https://astraken.se/events/storvreta-julmarknad/
END:VEVENT
END:VCALENDAR