BEGIN:VCALENDAR
VERSION:2.0
PRODID:-//eventon.com NONSGML v1.0//EN
CALSCALE:GREGORIAN
METHOD:PUBLISH
BEGIN:VEVENT
UID:69eb8399e5a4e
DTSTAMP:20260424T145209Z
DTSTART:20221204T090000Z
DTEND:20221204T140000Z
LOCATION:
SUMMARY:Salsta julmarknad
DESCRIPTION:Snart är det jul igen och dags för Wattholma Kultur- och Hemb
 ygdsförenings sextonde Julmarknad! Den 4:e december kl. 10-15\,  i nya sta
 llet vid Salsta slott.\nhttps://astraken.se/events/salsta-julmarknad/
URL:https://astraken.se/events/salsta-julmarknad/
END:VEVENT
END:VCALENDAR