BEGIN:VCALENDAR
VERSION:2.0
PRODID:-//eventon.com NONSGML v1.0//EN
CALSCALE:GREGORIAN
METHOD:PUBLISH
BEGIN:VEVENT
UID:69eb8433d50bb
DTSTAMP:20260424T145443Z
DTSTART:20221204T150000Z
DTEND:20221204T180000Z
LOCATION:
SUMMARY:Adventskonsert
DESCRIPTION:Söndag 4 december Slottskaféet öppet 11-16; Adventskonsert m
 ed Elisabeth Leyser (sång)\,  Hanna Bendz (cello) och Niclas Malmberg (pia
 no) kl.16 med efterföljande jultallrik kl.17; boka biljett på info@salsta
 -slott.se\nhttps://astraken.se/events/adventskonsert/
URL:https://astraken.se/events/adventskonsert/
END:VEVENT
END:VCALENDAR