BEGIN:VCALENDAR
VERSION:2.0
PRODID:-//eventon.com NONSGML v1.0//EN
CALSCALE:GREGORIAN
METHOD:PUBLISH
BEGIN:VEVENT
UID:69eb842fd0d36
DTSTAMP:20260424T145439Z
DTSTART:20221028T170000Z
DTEND:20221028T210000Z
LOCATION:
SUMMARY:Spökvandringar
DESCRIPTION:Fredag 28 oktober Slottskaféet öppet 11-16; Spökvandring k
 l.19.00\,  20.15 och 21.30. Boka plats på info@salsta-slott.se Måndag 31 
 oktober. Spökvandring kl.19.00\,  20.15 och 21.30. Boka plats på info@s
 alsta-slott.se Fredag 4 november Slottskaféet öppet 11-16; Spökvandring
  kl.19.00\,  20.15 och 21.30. Boka plats på info@salsta-slott.se Söndag 
 6 november Slottskaféet öppet 11-16; Spökvandring kl.19.00\,  20.15 oc
 h 21.30. Boka plats på info@salsta-slott.se\nhttps://astraken.se/events/sp
 okvandringar/
URL:https://astraken.se/events/spokvandringar/
END:VEVENT
END:VCALENDAR