BEGIN:VCALENDAR
VERSION:2.0
PRODID:-//eventon.com NONSGML v1.0//EN
CALSCALE:GREGORIAN
METHOD:PUBLISH
BEGIN:VEVENT
UID:69eb9f8fe3e41
DTSTAMP:20260424T165127Z
DTSTART:20221008T073000Z
DTEND:20221008T133000Z
LOCATION:
SUMMARY:Retreat på Salsta
DESCRIPTION:Lördag 8 oktober Slottskaféet öppet 11-16; Retreat på Sals
 ta slott: Välkomstfika med smörgås och té/kaffe 9.30. Därefter följer
  ett program med historisk rundvandring på slottet\,  så du lär känna p
 latsen\,  ett pass med avslappning till levande musik cello och piano i mö
 rklagt rum\,  en tvårätters lunch med efterföljande möjlighet till prom
 enad[..]\nhttps://astraken.se/events/retreat-pa-salsta/
URL:https://astraken.se/events/retreat-pa-salsta/
END:VEVENT
END:VCALENDAR