BEGIN:VCALENDAR
VERSION:2.0
PRODID:-//eventon.com NONSGML v1.0//EN
CALSCALE:GREGORIAN
METHOD:PUBLISH
BEGIN:VEVENT
UID:69eb8624c20af
DTSTAMP:20260424T150300Z
DTSTART:20221001T110000Z
DTEND:20221001T130000Z
LOCATION:
SUMMARY:Guidad rundvandring
DESCRIPTION:Lördag 1 oktober Guidad rundvandring kl.13. Boka plats på inf
 o@salsta-slott.se\nhttps://astraken.se/events/guidad-rundvandring/
URL:https://astraken.se/events/guidad-rundvandring/
END:VEVENT
END:VCALENDAR