BEGIN:VCALENDAR
VERSION:2.0
PRODID:-//eventon.com NONSGML v1.0//EN
CALSCALE:GREGORIAN
METHOD:PUBLISH
BEGIN:VEVENT
UID:69ec9a559c24b
DTSTAMP:20260425T104125Z
DTSTART:20220917T140000Z
DTEND:20220917T160000Z
LOCATION:
SUMMARY:Konsert Duo Fabula
DESCRIPTION:Lördag 17 september Slottskaféet öppet 11-16; Guidad rundvan
 dring kl.14\,  Musik på Salsta slott kl. 16 Duo Fabula. Biljettpris 200 
 kronor\,  boka biljett på info@salsta-slott.se\nhttps://astraken.se/events
 /konsert-duo-fabula/
URL:https://astraken.se/events/konsert-duo-fabula/
END:VEVENT
END:VCALENDAR