BEGIN:VCALENDAR
VERSION:2.0
PRODID:-//eventon.com NONSGML v1.0//EN
CALSCALE:GREGORIAN
METHOD:PUBLISH
BEGIN:VEVENT
UID:69eb88b606166
DTSTAMP:20260424T151358Z
DTSTART:20220910
DTEND:20220911
LOCATION:
SUMMARY:SM på rullskidor
DESCRIPTION:Välkomna till SM på Rullskidor i Storvreta. SM klasser från 
 15 år upp till 80 år med fristil på lördag 10 september och klassiskt s
 öndagen 11 september.\nhttps://astraken.se/events/sm-pa-rullskidor/
URL:https://astraken.se/events/sm-pa-rullskidor/
END:VEVENT
END:VCALENDAR