BEGIN:VCALENDAR
VERSION:2.0
PRODID:-//eventon.com NONSGML v1.0//EN
CALSCALE:GREGORIAN
METHOD:PUBLISH
BEGIN:VEVENT
UID:69eb847e1f7f5
DTSTAMP:20260424T145558Z
DTSTART:20220903T080000Z
DTEND:20220903T130000Z
LOCATION:
SUMMARY:Storvretadagen
DESCRIPTION:Storvretadagen är en dag för alla oss som bor och verkar i St
 orvreta. Det är en möjlighet för både ideella föreningar\,  privatpers
 oner och företag att visa upp vad som finns och skapa intresse för sina 
 aktiviteter eller produkter.\nhttps://astraken.se/events/storvretadagen/
URL:https://astraken.se/events/storvretadagen/
END:VEVENT
END:VCALENDAR