BEGIN:VCALENDAR
VERSION:2.0
PRODID:-//eventon.com NONSGML v1.0//EN
CALSCALE:GREGORIAN
METHOD:PUBLISH
BEGIN:VEVENT
UID:69eb86a97bf31
DTSTAMP:20260424T150513Z
DTSTART:20220904T090000Z
DTEND:20220904T140000Z
LOCATION:
SUMMARY:Skördefest vid Salsta
DESCRIPTION:Tillsammans med Salsta slott och Vattholma i Samverkan bjuder v
 i in till skördefest! Borggården på slottet fylls med färg\,  form\,  s
 mak och doft söndagen den 4:e september – Säljare\,  producenter\,  odl
 are och lokala hantverkare finns på plats med sina produkter! – Maria fr
 ån www.handjord.se finns på plats och håller fiket[..]\nhttps://astraken
 .se/events/skordefest-vid-salsta/
URL:https://astraken.se/events/skordefest-vid-salsta/
END:VEVENT
END:VCALENDAR