BEGIN:VCALENDAR
VERSION:2.0
PRODID:-//eventon.com NONSGML v1.0//EN
CALSCALE:GREGORIAN
METHOD:PUBLISH
BEGIN:VEVENT
UID:69eb8370bed01
DTSTAMP:20260424T145128Z
DTSTART:20220813T090000Z
DTEND:20220813T140000Z
LOCATION:
SUMMARY:Besök Ängslyckans Café
DESCRIPTION:Besök Ängslyckans Café\nhttps://astraken.se/events/besok-ang
 slyckans-cafe/
URL:https://astraken.se/events/besok-angslyckans-cafe/
END:VEVENT
END:VCALENDAR