BEGIN:VCALENDAR
VERSION:2.0
PRODID:-//eventon.com NONSGML v1.0//EN
CALSCALE:GREGORIAN
METHOD:PUBLISH
BEGIN:VEVENT
UID:69eb9d5e32adf
DTSTAMP:20260424T164206Z
DTSTART:20220828T093000Z
DTEND:20220828T130000Z
LOCATION:
SUMMARY:Björklingedagen 2022
DESCRIPTION:Björklinge hembygdsförening hälsar välkommen till Björklin
 gedagen 2022 Björklinge hembygdsmuseum med byggnader\,  föremål och milj
 öer som anknyter till bygdens historia\,  och utställningen ”En tidsres
 a 1900 1969”. Vi kommer även försöka få igång vår gamla tändkulemo
 tor under dagen. Kaffe med bröd\,  våfflor och korv serveras i och utanf
 r stallet\,  med stöd av[..]\nhttps://astraken.se/events/bjorklingedagen-
 2022/
URL:https://astraken.se/events/bjorklingedagen-2022/
END:VEVENT
END:VCALENDAR