BEGIN:VCALENDAR
VERSION:2.0
PRODID:-//eventon.com NONSGML v1.0//EN
CALSCALE:GREGORIAN
METHOD:PUBLISH
BEGIN:VEVENT
UID:69eb841bec988
DTSTAMP:20260424T145419Z
DTSTART:20220703T080000Z
DTEND:20220703T150000Z
LOCATION:
SUMMARY:Tusen trädgårdar
DESCRIPTION:Välkommen till Ekholmen (Väster-Ekeby 341\,  Örbyhus) på Tu
 sen trädgårdar den 3 juli 2022 Öppet: 10:00 -17:00 Vi har en stor trädg
 ård som gränsar till Vendelån. Trädgården består av rabatter med pere
 nner\,  som iris\,  flox i olika färger\,  rosor\,  pioner\,  bolltistel\,
   jakobsstege\,  hosta\,  rudbeckia\,  höstastrar mm Sommarblommor odla vi
  i krukor.[..]\nhttps://astraken.se/events/tusen-tradgardar/
URL:https://astraken.se/events/tusen-tradgardar/
END:VEVENT
END:VCALENDAR