BEGIN:VCALENDAR
VERSION:2.0
PRODID:-//eventon.com NONSGML v1.0//EN
CALSCALE:GREGORIAN
METHOD:PUBLISH
BEGIN:VEVENT
UID:69eba1d14e3be
DTSTAMP:20260424T170105Z
DTSTART:20220624T120000Z
DTEND:20220624T140000Z
LOCATION:
SUMMARY:Midsommarfirande
DESCRIPTION:Midsommarfirande i Skuttunge prästgård kl. 14. Dans runt mids
 ommarstången. Fikaförsäljning. Lotteri\,  kasta hästsko\,  chokladhjul 
 och tombola. Det får gärna stå med i kalendariet på Åstråken. Kanske 
 även på sidan över Skuttunge prästgård.\nhttps://astraken.se/events/mi
 dsommarfirande/
URL:https://astraken.se/events/midsommarfirande/
END:VEVENT
END:VCALENDAR