BEGIN:VCALENDAR
VERSION:2.0
PRODID:-//eventon.com NONSGML v1.0//EN
CALSCALE:GREGORIAN
METHOD:PUBLISH
BEGIN:VEVENT
UID:69eb889830b14
DTSTAMP:20260424T151328Z
DTSTART:20220814T160000Z
DTEND:20220814T170000Z
LOCATION:
SUMMARY:Musik i sommarkväll - Himmel över Uppland
DESCRIPTION:Storvreta kapell 18.00 Himmel över Uppland Musikgruppen Voice 
 of heart under ledning av Niclas Dahl. Mathilda Lindström &#8211; sång\, 
  Niclas Dahl &#8211; piano\,  Ludwig Alexandersson &#8211; bas\,  gitarr\, 
  sång\,  William Parkstam &#8211; slagverk.\nhttps://astraken.se/events/mu
 sik-i-sommarkvall-himmel-over-uppland/
URL:https://astraken.se/events/musik-i-sommarkvall-himmel-over-uppland/
END:VEVENT
END:VCALENDAR