BEGIN:VCALENDAR
VERSION:2.0
PRODID:-//eventon.com NONSGML v1.0//EN
CALSCALE:GREGORIAN
METHOD:PUBLISH
BEGIN:VEVENT
UID:69eb9cc2e2b69
DTSTAMP:20260424T163930Z
DTSTART:20220724T160000Z
DTEND:20220724T170000Z
LOCATION:
SUMMARY:Musik i sommarkväll - Virtuos spelmansmusik och sång
DESCRIPTION:Tensta kyrka 18.00 Virtuos spelmansmusik och sång med Erika oc
 h Cecilia &#8211; fiol och nyckelharpa.\nhttps://astraken.se/events/musik-i
 -sommarkvall-virtuos-spelmansmusik-och-sang/
URL:https://astraken.se/events/musik-i-sommarkvall-virtuos-spelmansmusik-och-sang/
END:VEVENT
END:VCALENDAR