BEGIN:VCALENDAR
VERSION:2.0
PRODID:-//eventon.com NONSGML v1.0//EN
CALSCALE:GREGORIAN
METHOD:PUBLISH
BEGIN:VEVENT
UID:69eb8853dc413
DTSTAMP:20260424T151219Z
DTSTART:20220710T160000Z
DTEND:20220710T170000Z
LOCATION:
SUMMARY:Musik i sommarkväll - Bland körsbärsblommor och tarantellor
DESCRIPTION:Storvreta kapell 18.00 Bland körsbärsblommor och tarantellor 
 Patrik Ahlberg &#8211; flöjt och Staffan Sjögren &#8211; gitarr.\nhttps:/
 /astraken.se/events/musik-i-sommarkvall-bland-korsbarsblommor-och-tarantell
 or/
URL:https://astraken.se/events/musik-i-sommarkvall-bland-korsbarsblommor-och-tarantellor/
END:VEVENT
END:VCALENDAR