BEGIN:VCALENDAR
VERSION:2.0
PRODID:-//eventon.com NONSGML v1.0//EN
CALSCALE:GREGORIAN
METHOD:PUBLISH
BEGIN:VEVENT
UID:69ed1d8042e6c
DTSTAMP:20260425T200104Z
DTSTART:20220703T160000Z
DTEND:20220703T170000Z
LOCATION:
SUMMARY:Musik i sommarkväll - Musik från slott\,  salong och koja
DESCRIPTION:Lena kyrka 18.00 Musik från slott\,  salong och koja Hanna Ben
 dz\,  cello och Niclas Malmberg\,  piano.\nhttps://astraken.se/events/musik
 -i-sommarkvall-musik-fran-slott-salong-och-koja/
URL:https://astraken.se/events/musik-i-sommarkvall-musik-fran-slott-salong-och-koja/
END:VEVENT
END:VCALENDAR