BEGIN:VCALENDAR
VERSION:2.0
PRODID:-//eventon.com NONSGML v1.0//EN
CALSCALE:GREGORIAN
METHOD:PUBLISH
BEGIN:VEVENT
UID:69eb83921238e
DTSTAMP:20260424T145202Z
DTSTART:20220905T120000Z
DTEND:20220905T140000Z
LOCATION:
SUMMARY:Othello
DESCRIPTION:kl. 14.00 och 18.00 Othello – teater i slottsträdgården Bil
 jetter bokas på: info@salsta-slott.se\nhttps://astraken.se/events/othello/
URL:https://astraken.se/events/othello/
END:VEVENT
END:VCALENDAR