BEGIN:VCALENDAR
VERSION:2.0
PRODID:-//eventon.com NONSGML v1.0//EN
CALSCALE:GREGORIAN
METHOD:PUBLISH
BEGIN:VEVENT
UID:69eb83ce9374e
DTSTAMP:20260424T145302Z
DTSTART:20220606T050000Z
DTEND:20220606T180000Z
LOCATION:
SUMMARY:Vendeldagen 2022
DESCRIPTION:07.00-10.00 RingmÃ¤rkning av fÃ¥glar. MÃ¶t fÃ¥glarna pÃ¥ nÃ¤ra 
 hÃ¥ll. VÃ¤gvisnings frÃ¥n slottsgrinden (Ã–rbyhus slott). 10.00 Bussturerna
  bÃ¶rjar (guidad tur kl 10\,  Ã¶vriga turer 11\,  13\,  14). 10.00-12.00 FÃ
 ¥gelguide vid Varggropens fÃ¥geltorn 11.00 Mariebergs gamla skola. Hembygds
 fÃ¶reningen 100 Ã¥r med nationaldagsfirande kl 12.00 11.00 och 14.00 Visnin
 g av Ã…hl GrÃ¶nt 11.00-14.00[..]\nhttps://astraken.se/events/vendeldagen-20
 22/
URL:https://astraken.se/events/vendeldagen-2022/
END:VEVENT
END:VCALENDAR