BEGIN:VCALENDAR
VERSION:2.0
PRODID:-//eventon.com NONSGML v1.0//EN
CALSCALE:GREGORIAN
METHOD:PUBLISH
BEGIN:VEVENT
UID:69eb85dfe01af
DTSTAMP:20260424T150151Z
DTSTART:20220618T070000Z
DTEND:20220618T130000Z
LOCATION:
SUMMARY:Skyttorpsdan
DESCRIPTION:SKYTTORPS MASKINMUSEUM Knallegatan\,  godis\,  sockervadd\,  ho
 ppborg\,  hamburgare\,  nostalgicafé\,  lingrävare in action\,  traktorer
 \,  bilar\,  motorcyklar\,  musik m m. &nbsp;\nhttps://astraken.se/events/s
 kyttorpsdan/
URL:https://astraken.se/events/skyttorpsdan/
END:VEVENT
END:VCALENDAR