BEGIN:VCALENDAR
VERSION:2.0
PRODID:-//eventon.com NONSGML v1.0//EN
CALSCALE:GREGORIAN
METHOD:PUBLISH
BEGIN:VEVENT
UID:69eb883b50b4f
DTSTAMP:20260424T151155Z
DTSTART:20220810T160000Z
DTEND:20220810T215000Z
LOCATION:
SUMMARY:Uppsala Kammarsolister med gäster
DESCRIPTION:Nils-Erik Sparf\,  violin\,  Klara Hellgren\,  violin\,  Brusk 
 Zanganeh\,  violin\,  Ylva-Li Zilliacus\,  viola\,  Per Nyström\,  cello\,
   Francisca Skoogh\,  piano\,  Nick Shugaev\,  cello\,  från Italien. Det 
 blir musik av Nielsen\,  Elgar\,  Brahms\,  Schönberg\,  m.m… Mer info o
 ch biljetter: https://kulturbiljetter.se/evenemang/5472/uppsala-kammarsolis
 ter-med-g%C3%A4ster\nhttps://astraken.se/events/uppsala-kammarsolister-med-
 gaster/
URL:https://astraken.se/events/uppsala-kammarsolister-med-gaster/
END:VEVENT
END:VCALENDAR