BEGIN:VCALENDAR
VERSION:2.0
PRODID:-//eventon.com NONSGML v1.0//EN
CALSCALE:GREGORIAN
METHOD:PUBLISH
BEGIN:VEVENT
UID:69eb88774dd95
DTSTAMP:20260424T151255Z
DTSTART:20220803T160000Z
DTEND:20220803T215000Z
LOCATION:
SUMMARY:Hannah Husáhr\,  Olle Persson & Mats Bergström
DESCRIPTION:Hannah Husáhr\,  sopran\,  Olle Persson\,  baryton &amp; Mats 
 Bergström\,  gitarr förenas i sånger\,  duetter och arior av bl.a. Mozar
 t\,  Puccini\,  Grieg och Alfvén i ett program skräddarsytt för kvällen
  i Orangeriet Mer info och biljetter: https://kulturbiljetter.se/evenemang/
 5471/hannah-hus%C3%A1rh-sopran-olle-persson-baryton-mats-bergstr%C3%B6m-git
 arr\nhttps://astraken.se/events/hannah-husahr-olle-persson-mats-bergstrom/
URL:https://astraken.se/events/hannah-husahr-olle-persson-mats-bergstrom/
END:VEVENT
END:VCALENDAR