BEGIN:VCALENDAR
VERSION:2.0
PRODID:-//eventon.com NONSGML v1.0//EN
CALSCALE:GREGORIAN
METHOD:PUBLISH
BEGIN:VEVENT
UID:69eb8357a80b0
DTSTAMP:20260424T145103Z
DTSTART:20220720T160000Z
DTEND:20220720T215000Z
LOCATION:
SUMMARY:Romeo & Julia Kören
DESCRIPTION:Program: MASCHERATA av Bartolomeo Tromboncino Med kärlek och k
 raft tar sig kören an Tromboncinos musik\,  river upp den\,  omformar och 
 gör den till sin. Han var en av renässansens största och mest älskade k
 ompositörer och lutspelare\,  som anlitades flitigt av hoven i Milano\,  V
 enedig\,  Ferrara och Padua. Mer info och[..]\nhttps://astraken.se/events/r
 omeo-julia-koren/
URL:https://astraken.se/events/romeo-julia-koren/
END:VEVENT
END:VCALENDAR