BEGIN:VCALENDAR
VERSION:2.0
PRODID:-//eventon.com NONSGML v1.0//EN
CALSCALE:GREGORIAN
METHOD:PUBLISH
BEGIN:VEVENT
UID:69eb885db8713
DTSTAMP:20260424T151229Z
DTSTART:20220713T160000Z
DTEND:20220713T215000Z
LOCATION:
SUMMARY:Stockholm Chamber Jazz
DESCRIPTION:Margareta Bengtsson\,  sång\,  från Vokalensemble ”The Real
  Group” Staffan Mårtensson\,  klarinett\,  Lennart Simonsson\,  piano\, 
  Jan Adefelt\,  bas Musik av Ellington\,  Bach\,  Gershwin\,  Mingus\,  Str
 avinskij\,  m.fl.… Mer info och biljetter: https://kulturbiljetter.se/eve
 nemang/5469/stockholm-chamber-jazz\nhttps://astraken.se/events/stockholm-ch
 amber-jazz/
URL:https://astraken.se/events/stockholm-chamber-jazz/
END:VEVENT
END:VCALENDAR