BEGIN:VCALENDAR
VERSION:2.0
PRODID:-//eventon.com NONSGML v1.0//EN
CALSCALE:GREGORIAN
METHOD:PUBLISH
BEGIN:VEVENT
UID:69eb85db0bae1
DTSTAMP:20260424T150147Z
DTSTART:20220806T100000Z
DTEND:20220806T215000Z
LOCATION:
SUMMARY:Stone Hamlet Rockfest re:dux
DESCRIPTION:Rockfesten i Stenby Vattholma är tillbaka i år. Årets line-u
 p: Satans kadaver Highwater Stone brigade Världen brinner Eleine Quantum L
 eap Lou Siffer &amp; The Howling Demons Hardcore Superstar Mer info och bil
 jetter: https://stonehamletrockfest.se/\nhttps://astraken.se/events/stone-h
 amlet-rockfest-redux/
URL:https://astraken.se/events/stone-hamlet-rockfest-redux/
END:VEVENT
END:VCALENDAR