BEGIN:VCALENDAR
VERSION:2.0
PRODID:-//eventon.com NONSGML v1.0//EN
CALSCALE:GREGORIAN
METHOD:PUBLISH
BEGIN:VEVENT
UID:69eb8355c1a3f
DTSTAMP:20260424T145101Z
DTSTART:20220521T090000Z
DTEND:20220521T120000Z
LOCATION:
SUMMARY:Vårmarknad Vattholma
DESCRIPTION:Lördagen den 21 maj ordnar föreningen Vattholma i Samverkan (
 VIS) tillsammans med föreningar och företag i Vattholma med omnejd en vå
 rmarknad i anslutning till Tempobutiken och biblioteket. Här kommer fören
 ingar\,  organisationer och företag ges möjlighet att presentera sina ver
 ksamheter och också sälja sina produkter. Vid marknaden för tre år seda
 n[..]\nhttps://astraken.se/events/varmarknad-vattholma/
URL:https://astraken.se/events/varmarknad-vattholma/
END:VEVENT
END:VCALENDAR