BEGIN:VCALENDAR
VERSION:2.0
PRODID:-//eventon.com NONSGML v1.0//EN
CALSCALE:GREGORIAN
METHOD:PUBLISH
BEGIN:VEVENT
UID:69eb8871918a0
DTSTAMP:20260424T151249Z
DTSTART:20220508T110000Z
DTEND:20220508T120000Z
LOCATION:
SUMMARY:Invigning av Salsta Slöjd och Smide
DESCRIPTION:Under ledning av Landshövding Göran Enander Musik\,  Tensta S
 pelmanslag\,  uruppförande av Smidesstädsmarch Välkommen!Hjälp oss att
  inviga Salsta Slöjd och Smide i Smedjan på Salsta Slott\nhttps://astrake
 n.se/events/invigning-av-salsta-slojd-och-smide/
URL:https://astraken.se/events/invigning-av-salsta-slojd-och-smide/
END:VEVENT
END:VCALENDAR