BEGIN:VCALENDAR
VERSION:2.0
PRODID:-//eventon.com NONSGML v1.0//EN
CALSCALE:GREGORIAN
METHOD:PUBLISH
BEGIN:VEVENT
UID:69eb9c4a78cd3
DTSTAMP:20260424T163730Z
DTSTART:20220430T070000Z
DTEND:20220430T130000Z
LOCATION:
SUMMARY:Ängslyckans Café
DESCRIPTION:Öppettider för Ängslyckans café 30 april (9-15) 1 maj (11-1
 6) Valborghelgen har vi finskt &amp; Åländskt tema och bakar finskt &amp;
  åländskt rågbröd och godsaker. 14 maj (9-15) 15 maj (11-16) söndagen 
 5 juni  11-16 måndagen (nationaldagen) 6 juni 10-16.\nhttps://astraken.se
 /events/angslyckans-cafe/
URL:https://astraken.se/events/angslyckans-cafe/
END:VEVENT
END:VCALENDAR