BEGIN:VCALENDAR
VERSION:2.0
PRODID:-//eventon.com NONSGML v1.0//EN
CALSCALE:GREGORIAN
METHOD:PUBLISH
BEGIN:VEVENT
UID:69eb835bb68b6
DTSTAMP:20260424T145107Z
DTSTART:20220430T180000Z
DTEND:20220430T200000Z
LOCATION:
SUMMARY:Valborg i Vattholma
DESCRIPTION:Efter flera års uppehåll kan vi nu äntligen fira valborg til
 lsammans. Samling kl 20.00 på vanlig plats i Bruket. Niclas Malmberg håll
 er årets vårtal. Det blir körsång i vanlig ordning under ledning av Sva
 nte Axelsson. (Kom gärna med och sjung! Samling kl 19.00 i Bagarstugan) Kl
 ass 5 i Vattholma skola[..]\nhttps://astraken.se/events/valborg-i-vattholma
 /
URL:https://astraken.se/events/valborg-i-vattholma/
END:VEVENT
END:VCALENDAR