BEGIN:VCALENDAR
VERSION:2.0
PRODID:-//eventon.com NONSGML v1.0//EN
CALSCALE:GREGORIAN
METHOD:PUBLISH
BEGIN:VEVENT
UID:69eb8359b2b6c
DTSTAMP:20260424T145105Z
DTSTART:20220430T150000Z
DTEND:20220430T200000Z
LOCATION:
SUMMARY:Valborgsfirande 2022
DESCRIPTION:Storvretas scoutkårer bjuder in till traditionellt valborgsfir
 ande med vårbrasa invid Fyrisån den sista april. Det erbjuds flertal akti
 viteter och gott att äta bl.a. kanoter\,  bungyrun\,  bollhav\,  lotterier
 \,  fika\,  krabbelurer\,  bränd mandlar\,  korv och sockervadd. Några av
  aktiviteterna stänger kl 19:30 för att brasan ska kunna tändas. Fackelt
 åg utgår från ICA[..]\nhttps://astraken.se/events/valborgsfirande-2022/
URL:https://astraken.se/events/valborgsfirande-2022/
END:VEVENT
END:VCALENDAR