BEGIN:VCALENDAR
VERSION:2.0
PRODID:-//eventon.com NONSGML v1.0//EN
CALSCALE:GREGORIAN
METHOD:PUBLISH
BEGIN:VEVENT
UID:69eb8862cda59
DTSTAMP:20260424T151234Z
DTSTART:20220605T140000Z
DTEND:20220605T150000Z
LOCATION:
SUMMARY:Musik på Salsta - Uppsala kammarsolister
DESCRIPTION:Uppsala kammarsolister; Biljettpris 200 kronor\,  boka biljett 
 på info@salsta-slott.se\nhttps://astraken.se/events/musik-pa-salsta-uppsal
 a-kammarsolister/
URL:https://astraken.se/events/musik-pa-salsta-uppsala-kammarsolister/
END:VEVENT
END:VCALENDAR