BEGIN:VCALENDAR
VERSION:2.0
PRODID:-//eventon.com NONSGML v1.0//EN
CALSCALE:GREGORIAN
METHOD:PUBLISH
BEGIN:VEVENT
UID:69eb886c9c0f6
DTSTAMP:20260424T151244Z
DTSTART:20220606T090000Z
DTEND:20220606T140000Z
LOCATION:
SUMMARY:Nationaldagsfirande på Salsta
DESCRIPTION:Nationaldagsfirande på Salsta slott Friluftsgudstjänst kl.11 
 arr: Lena församling Slottskaféet öppet 12-16. Folkdansuppvisning av Ten
 sta folkdanslag och Tensta spelmanslag. Klockan 12.15 serveras Nationaldags
 lunch i Kungssalen\,  pris 340 kr för mat och musik &amp; dans-underhålln
 ing. Boka plats på info@salsta-slott.se\nhttps://astraken.se/events/nation
 aldagsfirande-pa-salsta/
URL:https://astraken.se/events/nationaldagsfirande-pa-salsta/
END:VEVENT
END:VCALENDAR