BEGIN:VCALENDAR
VERSION:2.0
PRODID:-//eventon.com NONSGML v1.0//EN
CALSCALE:GREGORIAN
METHOD:PUBLISH
BEGIN:VEVENT
UID:69eb9d9a274a7
DTSTAMP:20260424T164306Z
DTSTART:20220601T110000Z
DTEND:20220601T130000Z
LOCATION:
SUMMARY:FÅGELSPANING VID ÅNGE VÅTMARK
DESCRIPTION:Den lilla våtmarken i Ånge sjuder av liv så här i början a
 v sommaren. Vi tar en gemensam promenad längs den hårdgjorda stigen fram 
 till rastplatsen vid våtmarken. Här spanar vi fåglar tillsammans med vå
 ra guider. Ta gärna med eget fika – vi bjuder på kaffe/ te! Läs mer om
 [..]\nhttps://astraken.se/events/fagelspaning-vid-ange-vatmark/
URL:https://astraken.se/events/fagelspaning-vid-ange-vatmark/
END:VEVENT
END:VCALENDAR